BEGIN:VCALENDAR
VERSION:2.0
PRODID:-//イルチブレインヨガ公式サイト - ECPv6.15.16//NONSGML v1.0//EN
CALSCALE:GREGORIAN
METHOD:PUBLISH
X-WR-CALNAME:イルチブレインヨガ公式サイト
X-ORIGINAL-URL:https://ilchibrainyoga.com
X-WR-CALDESC:イルチブレインヨガ公式サイト のイベント
REFRESH-INTERVAL;VALUE=DURATION:PT1H
X-Robots-Tag:noindex
X-PUBLISHED-TTL:PT1H
BEGIN:VTIMEZONE
TZID:Asia/Tokyo
BEGIN:STANDARD
TZOFFSETFROM:+0900
TZOFFSETTO:+0900
TZNAME:JST
DTSTART:20250101T000000
END:STANDARD
END:VTIMEZONE
BEGIN:VEVENT
DTSTART;TZID=Asia/Tokyo:20260205T123000
DTEND;TZID=Asia/Tokyo:20260228T190000
DTSTAMP:20260425T215515
CREATED:20260205T014333Z
LAST-MODIFIED:20260205T014333Z
UID:85079-1770294600-1772305200@ilchibrainyoga.com
SUMMARY:【膳所】2月　〜心と体の健康は腸から〜 呼吸瞑想体験会
DESCRIPTION:集中力がない/イライラ/だるい/自信がない⋯\nそんな時はまず「腸」をチェックしてみましょう。\n体操で腸を刺激し、呼吸瞑想で心身を整えます。 \n腸は第2の脳とも言われ、深い呼吸、瞑想のために\n「まず、腸をほぐすことから始める」\nヨガ体験会です！ \n腸は第2の脳と言われています。 \n腸をほぐして脳をリラックスさせ、\nストレスをやわらげます。\nそこで自分の内面に意識を向けていくのを助けるのが、\n「エネルギー瞑想」です。 \n自然と呼吸が深くなります。 \n瞑想初心者にもおすすめの、\n分かりやすく実践しやすい呼吸瞑想法です。 \n🍀めざすのは、水昇火降🍀\nお腹があたたかく、頭が涼しくスッキリした状態を\n「水昇火昇（すいしょうかこう）」と言います。 \n人間の体だけでなく、地球上の自然界、植物、動物すべてに\n共通する健康の原理「水昇火降」を体感することで、\n体力、気力、脳力を回復していきます。 \n水昇火降になると。。\n・ストレスケア\n・お腹すっきり\n・リラックス効果\n・肩、腰スッキリ\n・柔軟性アップ\n・心が安定し、ブレにくくなる。\n・パフォーマンス向上 \nを体感できるようになります✨ \n開催日時：\n火・木・金曜日　 12時半〜14時\n火・金曜日 　17時半〜19時\n土・日曜日　 14時〜15時半 \n★各回定員4名 要予約です★\n※他の日時もお気軽にお問い合わせ下さい \n会場名：イルチブレインヨガ膳所スタジオ\n会場住所：大津市膳所2-1-8\n参加費：1000円→無料！\n🍀2月限定！初回体験の方限定の今がチャンスです！\nお見逃しなく♥\nご予約・お問い合わせ： 077-524-9050 \n\nLINEからのお申し込みはこちら⇒https://lin.ee/0mJI7FRS \n\n\n  \n\n\n\n\n	\n	\n	 \n	\n		\n			\n				ご予約内容\n						（必須）\n						\n				 \n			\n			\n				体験レッスンイベント体験レッスン+オーラ撮影オーラ撮影問合せ\n※ 入会予約はこちらからお申し込みください\n				 \n			\n		\n		\n			\n				お名前\n						（必須）\n						\n				 \n			\n			\n				\n				 \n			\n		\n		\n			\n				メールアドレス\n						（必須）\n						\n				 \n			\n			\n				\n※ 携帯電話のメールアドレスをご入力の際は、ドメイン指定の設定をされている場合”＠ilchibrainyoga.com”からのメールを受け取ることができるように設定してください。\n				 \n			\n		\n		\n			\n				お電話番号（携帯可）\n						（必須）\n						\n				 \n			\n			\n				イルチブレインヨガ各店舗からの連絡が可能な番号をご入力ください。\n\n				 \n			\n		\n		\n			\n				ご予約希望日時\n				 \n			\n			\n				ご予約希望日時をお選びください\n【希望日】タイムスケジュールに記載があるクラスからお選びください\n\n時間帯を選択してください10時台のクラス14時台のクラス19時台のクラス午前のイベント午後のイベント夜のイベント\n				 \n				※ ご予約状況等によりご希望の日時に添えない場合もございます。その際は事前に調整を行う連絡をさせていただきますので予めご了承ください。\n\n				 \n			\n		\n		\n			\n				こちらのスタジオを何でお知りになりましたか？\n						 （必須）\n						\n				 \n			\n			\n				チラシ看板書籍雑誌紹介Yahoo検索Google検索口コミその他Webサイト\n				 \n			\n		\n		\n			\n				ご関心があること、習得したいこと（複数可）\n				 \n			\n			\n				自然治癒力アップ集中力アップダイエット体質改善ストレス軽減丹田強化呼吸法瞑想法その他（備考欄にご入力ください）\n				 \n			\n		\n		\n			\n				備考欄\n				 \n			\n			\n				\n				 \n			\n		\n	\n	個人情報の取扱い\n		について、同意の上送信します。\n※ ご入力頂いた情報は、株式会社DAHN WORLD JAPANからのご案内をさせて頂く以外の目的では使用致しません。\n		\n	 \n	\n	\n	 \n	※ 送信ボタンを押すとすぐ送信されます。このページで入力内容を確認してください。\n\n自動で完了メールが配信されます。\n	 \nΔ \n\n\n\n株式会社ダンワールドジャパン
URL:https://ilchibrainyoga.com/event/zeze-16/
LOCATION:イルチブレインヨガ膳所スタジオ\, 膳所２丁目１−８\, 大津市\, 滋賀県\, 日本
CATEGORIES:滋賀,膳所
ATTACH;FMTTYPE=image/jpeg:https://ilchibrainyoga.com/wp-content/uploads/2026/02/膳所.jpg
END:VEVENT
BEGIN:VEVENT
DTSTART;TZID=Asia/Tokyo:20260211T123000
DTEND;TZID=Asia/Tokyo:20260225T140000
DTSTAMP:20260425T215515
CREATED:20260205T014508Z
LAST-MODIFIED:20260205T014508Z
UID:85082-1770813000-1772028000@ilchibrainyoga.com
SUMMARY:【膳所】2月11日、18日、25日（水）　どちらか選べる！♥陰陽五行診断♥オーラ撮影 & ヨガ体験会
DESCRIPTION:陰陽五行診断またはオーラ撮影の、\nお好きなほうを1つ受けて頂き、\n今あなたに必要な習慣やトレーニングをアドバイス。\nヨガレッスンで実際に体感して頂きます。 \n♥陰陽五行診断\nあなたの持っている気質・体質の傾向をチェックします。 \n♥オーラ撮影\n体・心・脳のエネルギーの状態、\n自律神経のバランスをチェックします。 \n✨✨✨✨ \n✦イルチブレインヨガのトレーニングの特徴✦ \n脳科学と東洋の伝統的なトレーニングを融合した、\n変化を感じやすいプログラムです。\n簡単なストレッチや呼吸で、体も心もすっきり気分爽快！ \n開催日時：\n2月11日、18日、25日（水）\n12：30〜14：00\n★各回定員4名 要予約です★\n※他の日時もお気軽にお問い合わせ下さい \n会場名：イルチブレインヨガ膳所スタジオ\n会場住所：大津市膳所2-1-8\n参加費：2000円\nご予約・お問い合わせ： 077-524-9050 \n\nLINEからのお申し込みはこちら⇒https://lin.ee/0mJI7FRS \n\n\n  \n\n\n\n\n	\n	\n	 \n	\n		\n			\n				ご予約内容\n						（必須）\n						\n				 \n			\n			\n				体験レッスンイベント体験レッスン+オーラ撮影オーラ撮影問合せ\n※ 入会予約はこちらからお申し込みください\n				 \n			\n		\n		\n			\n				お名前\n						（必須）\n						\n				 \n			\n			\n				\n				 \n			\n		\n		\n			\n				メールアドレス\n						（必須）\n						\n				 \n			\n			\n				\n※ 携帯電話のメールアドレスをご入力の際は、ドメイン指定の設定をされている場合”＠ilchibrainyoga.com”からのメールを受け取ることができるように設定してください。\n				 \n			\n		\n		\n			\n				お電話番号（携帯可）\n						（必須）\n						\n				 \n			\n			\n				イルチブレインヨガ各店舗からの連絡が可能な番号をご入力ください。\n\n				 \n			\n		\n		\n			\n				ご予約希望日時\n				 \n			\n			\n				ご予約希望日時をお選びください\n【希望日】タイムスケジュールに記載があるクラスからお選びください\n\n時間帯を選択してください10時台のクラス14時台のクラス19時台のクラス午前のイベント午後のイベント夜のイベント\n				 \n				※ ご予約状況等によりご希望の日時に添えない場合もございます。その際は事前に調整を行う連絡をさせていただきますので予めご了承ください。\n\n				 \n			\n		\n		\n			\n				こちらのスタジオを何でお知りになりましたか？\n						 （必須）\n						\n				 \n			\n			\n				チラシ看板書籍雑誌紹介Yahoo検索Google検索口コミその他Webサイト\n				 \n			\n		\n		\n			\n				ご関心があること、習得したいこと（複数可）\n				 \n			\n			\n				自然治癒力アップ集中力アップダイエット体質改善ストレス軽減丹田強化呼吸法瞑想法その他（備考欄にご入力ください）\n				 \n			\n		\n		\n			\n				備考欄\n				 \n			\n			\n				\n				 \n			\n		\n	\n	個人情報の取扱い\n		について、同意の上送信します。\n※ ご入力頂いた情報は、株式会社DAHN WORLD JAPANからのご案内をさせて頂く以外の目的では使用致しません。\n		\n	 \n	\n	\n	 \n	※ 送信ボタンを押すとすぐ送信されます。このページで入力内容を確認してください。\n\n自動で完了メールが配信されます。\n	 \nΔ \n\n\n\n株式会社ダンワールドジャパン
URL:https://ilchibrainyoga.com/event/zeze-17/
LOCATION:イルチブレインヨガ膳所スタジオ\, 膳所２丁目１−８\, 大津市\, 滋賀県\, 日本
CATEGORIES:滋賀,膳所
ATTACH;FMTTYPE=image/jpeg:https://ilchibrainyoga.com/wp-content/uploads/2026/01/新モデル-オーラ撮影.jpg
END:VEVENT
END:VCALENDAR